BEGIN:VCALENDAR
VERSION:2.0
PRODID:-//hacksw/handcal//NONSGML v1.0//EN
BEGIN:VEVENT
SUMMARY:REPORTE A UNE DATE ULTERIEUR TOSSE
UID:d1eba014-e2f6-4250-867f-c5192ad74ee8
DTSTART:20260405T123000Z
DTEND:20260405T220000Z
LOCATION:Localisation TRIP MIXTE A+B Coupes du Club Arb.
CATEGORIES:Manifestation
STATUS:
DESCRIPTION:<p> </p>
 
 <div class="XTranslate"> </div>
 
URL;VALUE=URI:https://cd40petanque.sportsregions.fr/evenements/2026/04/05/reporte-a-une-date-ulterieur-tosse-2413264
END:VEVENT
END:VCALENDAR
