BEGIN:VCALENDAR
VERSION:2.0
PRODID:-//hacksw/handcal//NONSGML v1.0//EN
BEGIN:VEVENT
SUMMARY:ANNULATION DU CONCOURS SAUBION
UID:0d9b2507-1c67-4ab7-af09-d7d4c2639cc7
DTSTART:20260527T130000Z
DTEND:20260527T220000Z
LOCATION:Localisation DOUB VET A+B Coupes du Club - Arb. D.HONDELATTE
CATEGORIES:Manifestation
STATUS:
DESCRIPTION:<p> </p>
 
 <div class="XTranslate"> </div>
 
URL;VALUE=URI:https://cd40petanque.sportsregions.fr/evenements/2026/05/27/annulation-du-concours-saubion-2413376
END:VEVENT
END:VCALENDAR
